Package: scrapper Version: 1.1.12 Command: /Library/Frameworks/R.framework/Resources/bin/R CMD INSTALL scrapper StartedAt: 2025-02-09 15:04:45 -0500 (Sun, 09 Feb 2025) EndedAt: 2025-02-09 15:06:13 -0500 (Sun, 09 Feb 2025) EllapsedTime: 88.0 seconds RetCode: 0 Status: OK