Package: scrapper Version: 1.1.12 Command: rm -rf scrapper.buildbin-libdir && mkdir scrapper.buildbin-libdir && /Users/biocbuild/BBS/utils/build-universal.sh scrapper_1.1.12.tar.gz /Library/Frameworks/R.framework/Resources/bin/R scrapper.buildbin-libdir StartedAt: 2025-02-10 01:15:27 -0500 (Mon, 10 Feb 2025) EndedAt: 2025-02-10 01:21:48 -0500 (Mon, 10 Feb 2025) EllapsedTime: 381.1 seconds RetCode: 0 Status: OK PackageFile: scrapper_1.1.12.tgz PackageFileSize: 1.698 MiB