Package: scrapper Version: 1.1.12 Command: /Library/Frameworks/R.framework/Resources/bin/R CMD INSTALL scrapper StartedAt: 2025-02-09 15:12:37 -0500 (Sun, 09 Feb 2025) EndedAt: 2025-02-09 15:18:31 -0500 (Sun, 09 Feb 2025) EllapsedTime: 354.3 seconds RetCode: 0 Status: OK