Package: scrapper Version: 1.1.12 Command: /home/biocbuild/bbs-3.21-bioc/R/bin/R CMD build --keep-empty-dirs --no-resave-data scrapper StartedAt: 2025-02-09 19:10:14 -0500 (Sun, 09 Feb 2025) EndedAt: 2025-02-09 19:18:53 -0500 (Sun, 09 Feb 2025) EllapsedTime: 519.5 seconds RetCode: 0 Status: OK PackageFile: scrapper_1.1.12.tar.gz PackageFileSize: 657.7 KiB