Package: scrapper Version: 1.1.12 Command: /home/biocbuild/bbs-3.21-bioc/R/bin/R CMD INSTALL scrapper StartedAt: 2025-02-09 15:20:44 -0500 (Sun, 09 Feb 2025) EndedAt: 2025-02-09 15:26:47 -0500 (Sun, 09 Feb 2025) EllapsedTime: 363.5 seconds RetCode: 0 Status: OK