############################################################################## ############################################################################## ### ### Running command: ### ### rm -rf scrapper.buildbin-libdir && mkdir scrapper.buildbin-libdir && E:\biocbuild\bbs-3.21-bioc\R\bin\R.exe CMD INSTALL --build --library=scrapper.buildbin-libdir scrapper_1.1.12.tar.gz ### ############################################################################## ############################################################################## * installing *source* package 'scrapper' ... ** this is package 'scrapper' version '1.1.12' ** using staged installation ** libs using C++ compiler: 'G__~1.EXE (GCC) 13.3.0' g++ -std=gnu++17 -I"E:/biocbuild/bbs-3.21-bioc/R/include" -DNDEBUG -I'E:/biocbuild/bbs-3.21-bioc/R/library/Rcpp/include' -I'E:/biocbuild/bbs-3.21-bioc/R/library/assorthead/include' -I'E:/biocbuild/bbs-3.21-bioc/R/library/beachmat/include' -I'E:/biocbuild/bbs-3.21-bioc/R/library/BiocNeighbors/include' -I"C:/rtools44/x86_64-w64-mingw32.static.posix/include" -O2 -Wall -mfpmath=sse -msse2 -mstackrealign -DR_NO_REMAP -c RcppExports.cpp -o RcppExports.o g++ -std=gnu++17 -I"E:/biocbuild/bbs-3.21-bioc/R/include" -DNDEBUG -I'E:/biocbuild/bbs-3.21-bioc/R/library/Rcpp/include' -I'E:/biocbuild/bbs-3.21-bioc/R/library/assorthead/include' -I'E:/biocbuild/bbs-3.21-bioc/R/library/beachmat/include' -I'E:/biocbuild/bbs-3.21-bioc/R/library/BiocNeighbors/include' -I"C:/rtools44/x86_64-w64-mingw32.static.posix/include" -O2 -Wall -mfpmath=sse -msse2 -mstackrealign -DR_NO_REMAP -c adt_quality_control.cpp -o adt_quality_control.o g++ -std=gnu++17 -I"E:/biocbuild/bbs-3.21-bioc/R/include" -DNDEBUG -I'E:/biocbuild/bbs-3.21-bioc/R/library/Rcpp/include' -I'E:/biocbuild/bbs-3.21-bioc/R/library/assorthead/include' -I'E:/biocbuild/bbs-3.21-bioc/R/library/beachmat/include' -I'E:/biocbuild/bbs-3.21-bioc/R/library/BiocNeighbors/include' -I"C:/rtools44/x86_64-w64-mingw32.static.posix/include" -O2 -Wall -mfpmath=sse -msse2 -mstackrealign -DR_NO_REMAP -c aggregate_across_cells.cpp -o aggregate_across_cells.o g++ -std=gnu++17 -I"E:/biocbuild/bbs-3.21-bioc/R/include" -DNDEBUG -I'E:/biocbuild/bbs-3.21-bioc/R/library/Rcpp/include' -I'E:/biocbuild/bbs-3.21-bioc/R/library/assorthead/include' -I'E:/biocbuild/bbs-3.21-bioc/R/library/beachmat/include' -I'E:/biocbuild/bbs-3.21-bioc/R/library/BiocNeighbors/include' -I"C:/rtools44/x86_64-w64-mingw32.static.posix/include" -O2 -Wall -mfpmath=sse -msse2 -mstackrealign -DR_NO_REMAP -c aggregate_across_genes.cpp -o aggregate_across_genes.o g++ -std=gnu++17 -I"E:/biocbuild/bbs-3.21-bioc/R/include" -DNDEBUG -I'E:/biocbuild/bbs-3.21-bioc/R/library/Rcpp/include' -I'E:/biocbuild/bbs-3.21-bioc/R/library/assorthead/include' -I'E:/biocbuild/bbs-3.21-bioc/R/library/beachmat/include' -I'E:/biocbuild/bbs-3.21-bioc/R/library/BiocNeighbors/include' -I"C:/rtools44/x86_64-w64-mingw32.static.posix/include" -O2 -Wall -mfpmath=sse -msse2 -mstackrealign -DR_NO_REMAP -c build_snn_graph.cpp -o build_snn_graph.o g++ -std=gnu++17 -I"E:/biocbuild/bbs-3.21-bioc/R/include" -DNDEBUG -I'E:/biocbuild/bbs-3.21-bioc/R/library/Rcpp/include' -I'E:/biocbuild/bbs-3.21-bioc/R/library/assorthead/include' -I'E:/biocbuild/bbs-3.21-bioc/R/library/beachmat/include' -I'E:/biocbuild/bbs-3.21-bioc/R/library/BiocNeighbors/include' -I"C:/rtools44/x86_64-w64-mingw32.static.posix/include" -O2 -Wall -mfpmath=sse -msse2 -mstackrealign -DR_NO_REMAP -c center_size_factors.cpp -o center_size_factors.o g++ -std=gnu++17 -I"E:/biocbuild/bbs-3.21-bioc/R/include" -DNDEBUG -I'E:/biocbuild/bbs-3.21-bioc/R/library/Rcpp/include' -I'E:/biocbuild/bbs-3.21-bioc/R/library/assorthead/include' -I'E:/biocbuild/bbs-3.21-bioc/R/library/beachmat/include' -I'E:/biocbuild/bbs-3.21-bioc/R/library/BiocNeighbors/include' -I"C:/rtools44/x86_64-w64-mingw32.static.posix/include" -O2 -Wall -mfpmath=sse -msse2 -mstackrealign -DR_NO_REMAP -c choose_highly_variable_genes.cpp -o choose_highly_variable_genes.o g++ -std=gnu++17 -I"E:/biocbuild/bbs-3.21-bioc/R/include" -DNDEBUG -I'E:/biocbuild/bbs-3.21-bioc/R/library/Rcpp/include' -I'E:/biocbuild/bbs-3.21-bioc/R/library/assorthead/include' -I'E:/biocbuild/bbs-3.21-bioc/R/library/beachmat/include' -I'E:/biocbuild/bbs-3.21-bioc/R/library/BiocNeighbors/include' -I"C:/rtools44/x86_64-w64-mingw32.static.posix/include" -O2 -Wall -mfpmath=sse -msse2 -mstackrealign -DR_NO_REMAP -c choose_pseudo_count.cpp -o choose_pseudo_count.o g++ -std=gnu++17 -I"E:/biocbuild/bbs-3.21-bioc/R/include" -DNDEBUG -I'E:/biocbuild/bbs-3.21-bioc/R/library/Rcpp/include' -I'E:/biocbuild/bbs-3.21-bioc/R/library/assorthead/include' -I'E:/biocbuild/bbs-3.21-bioc/R/library/beachmat/include' -I'E:/biocbuild/bbs-3.21-bioc/R/library/BiocNeighbors/include' -I"C:/rtools44/x86_64-w64-mingw32.static.posix/include" -O2 -Wall -mfpmath=sse -msse2 -mstackrealign -DR_NO_REMAP -c cluster_graph.cpp -o cluster_graph.o g++ -std=gnu++17 -I"E:/biocbuild/bbs-3.21-bioc/R/include" -DNDEBUG -I'E:/biocbuild/bbs-3.21-bioc/R/library/Rcpp/include' -I'E:/biocbuild/bbs-3.21-bioc/R/library/assorthead/include' -I'E:/biocbuild/bbs-3.21-bioc/R/library/beachmat/include' -I'E:/biocbuild/bbs-3.21-bioc/R/library/BiocNeighbors/include' -I"C:/rtools44/x86_64-w64-mingw32.static.posix/include" -O2 -Wall -mfpmath=sse -msse2 -mstackrealign -DR_NO_REMAP -c cluster_kmeans.cpp -o cluster_kmeans.o g++ -std=gnu++17 -I"E:/biocbuild/bbs-3.21-bioc/R/include" -DNDEBUG -I'E:/biocbuild/bbs-3.21-bioc/R/library/Rcpp/include' -I'E:/biocbuild/bbs-3.21-bioc/R/library/assorthead/include' -I'E:/biocbuild/bbs-3.21-bioc/R/library/beachmat/include' -I'E:/biocbuild/bbs-3.21-bioc/R/library/BiocNeighbors/include' -I"C:/rtools44/x86_64-w64-mingw32.static.posix/include" -O2 -Wall -mfpmath=sse -msse2 -mstackrealign -DR_NO_REMAP -c combine_factors.cpp -o combine_factors.o g++ -std=gnu++17 -I"E:/biocbuild/bbs-3.21-bioc/R/include" -DNDEBUG -I'E:/biocbuild/bbs-3.21-bioc/R/library/Rcpp/include' -I'E:/biocbuild/bbs-3.21-bioc/R/library/assorthead/include' -I'E:/biocbuild/bbs-3.21-bioc/R/library/beachmat/include' -I'E:/biocbuild/bbs-3.21-bioc/R/library/BiocNeighbors/include' -I"C:/rtools44/x86_64-w64-mingw32.static.posix/include" -O2 -Wall -mfpmath=sse -msse2 -mstackrealign -DR_NO_REMAP -c compute_clrm1_factors.cpp -o compute_clrm1_factors.o g++ -std=gnu++17 -I"E:/biocbuild/bbs-3.21-bioc/R/include" -DNDEBUG -I'E:/biocbuild/bbs-3.21-bioc/R/library/Rcpp/include' -I'E:/biocbuild/bbs-3.21-bioc/R/library/assorthead/include' -I'E:/biocbuild/bbs-3.21-bioc/R/library/beachmat/include' -I'E:/biocbuild/bbs-3.21-bioc/R/library/BiocNeighbors/include' -I"C:/rtools44/x86_64-w64-mingw32.static.posix/include" -O2 -Wall -mfpmath=sse -msse2 -mstackrealign -DR_NO_REMAP -c correct_mnn.cpp -o correct_mnn.o g++ -std=gnu++17 -I"E:/biocbuild/bbs-3.21-bioc/R/include" -DNDEBUG -I'E:/biocbuild/bbs-3.21-bioc/R/library/Rcpp/include' -I'E:/biocbuild/bbs-3.21-bioc/R/library/assorthead/include' -I'E:/biocbuild/bbs-3.21-bioc/R/library/beachmat/include' -I'E:/biocbuild/bbs-3.21-bioc/R/library/BiocNeighbors/include' -I"C:/rtools44/x86_64-w64-mingw32.static.posix/include" -O2 -Wall -mfpmath=sse -msse2 -mstackrealign -DR_NO_REMAP -c crispr_quality_control.cpp -o crispr_quality_control.o g++ -std=gnu++17 -I"E:/biocbuild/bbs-3.21-bioc/R/include" -DNDEBUG -I'E:/biocbuild/bbs-3.21-bioc/R/library/Rcpp/include' -I'E:/biocbuild/bbs-3.21-bioc/R/library/assorthead/include' -I'E:/biocbuild/bbs-3.21-bioc/R/library/beachmat/include' -I'E:/biocbuild/bbs-3.21-bioc/R/library/BiocNeighbors/include' -I"C:/rtools44/x86_64-w64-mingw32.static.posix/include" -O2 -Wall -mfpmath=sse -msse2 -mstackrealign -DR_NO_REMAP -c fit_variance_trend.cpp -o fit_variance_trend.o g++ -std=gnu++17 -I"E:/biocbuild/bbs-3.21-bioc/R/include" -DNDEBUG -I'E:/biocbuild/bbs-3.21-bioc/R/library/Rcpp/include' -I'E:/biocbuild/bbs-3.21-bioc/R/library/assorthead/include' -I'E:/biocbuild/bbs-3.21-bioc/R/library/beachmat/include' -I'E:/biocbuild/bbs-3.21-bioc/R/library/BiocNeighbors/include' -I"C:/rtools44/x86_64-w64-mingw32.static.posix/include" -O2 -Wall -mfpmath=sse -msse2 -mstackrealign -DR_NO_REMAP -c model_gene_variances.cpp -o model_gene_variances.o g++ -std=gnu++17 -I"E:/biocbuild/bbs-3.21-bioc/R/include" -DNDEBUG -I'E:/biocbuild/bbs-3.21-bioc/R/library/Rcpp/include' -I'E:/biocbuild/bbs-3.21-bioc/R/library/assorthead/include' -I'E:/biocbuild/bbs-3.21-bioc/R/library/beachmat/include' -I'E:/biocbuild/bbs-3.21-bioc/R/library/BiocNeighbors/include' -I"C:/rtools44/x86_64-w64-mingw32.static.posix/include" -O2 -Wall -mfpmath=sse -msse2 -mstackrealign -DR_NO_REMAP -c normalize_counts.cpp -o normalize_counts.o g++ -std=gnu++17 -I"E:/biocbuild/bbs-3.21-bioc/R/include" -DNDEBUG -I'E:/biocbuild/bbs-3.21-bioc/R/library/Rcpp/include' -I'E:/biocbuild/bbs-3.21-bioc/R/library/assorthead/include' -I'E:/biocbuild/bbs-3.21-bioc/R/library/beachmat/include' -I'E:/biocbuild/bbs-3.21-bioc/R/library/BiocNeighbors/include' -I"C:/rtools44/x86_64-w64-mingw32.static.posix/include" -O2 -Wall -mfpmath=sse -msse2 -mstackrealign -DR_NO_REMAP -c rna_quality_control.cpp -o rna_quality_control.o g++ -std=gnu++17 -I"E:/biocbuild/bbs-3.21-bioc/R/include" -DNDEBUG -I'E:/biocbuild/bbs-3.21-bioc/R/library/Rcpp/include' -I'E:/biocbuild/bbs-3.21-bioc/R/library/assorthead/include' -I'E:/biocbuild/bbs-3.21-bioc/R/library/beachmat/include' -I'E:/biocbuild/bbs-3.21-bioc/R/library/BiocNeighbors/include' -I"C:/rtools44/x86_64-w64-mingw32.static.posix/include" -O2 -Wall -mfpmath=sse -msse2 -mstackrealign -DR_NO_REMAP -c run_pca.cpp -o run_pca.o g++ -std=gnu++17 -I"E:/biocbuild/bbs-3.21-bioc/R/include" -DNDEBUG -I'E:/biocbuild/bbs-3.21-bioc/R/library/Rcpp/include' -I'E:/biocbuild/bbs-3.21-bioc/R/library/assorthead/include' -I'E:/biocbuild/bbs-3.21-bioc/R/library/beachmat/include' -I'E:/biocbuild/bbs-3.21-bioc/R/library/BiocNeighbors/include' -I"C:/rtools44/x86_64-w64-mingw32.static.posix/include" -O2 -Wall -mfpmath=sse -msse2 -mstackrealign -DR_NO_REMAP -c run_tsne.cpp -o run_tsne.o g++ -std=gnu++17 -I"E:/biocbuild/bbs-3.21-bioc/R/include" -DNDEBUG -I'E:/biocbuild/bbs-3.21-bioc/R/library/Rcpp/include' -I'E:/biocbuild/bbs-3.21-bioc/R/library/assorthead/include' -I'E:/biocbuild/bbs-3.21-bioc/R/library/beachmat/include' -I'E:/biocbuild/bbs-3.21-bioc/R/library/BiocNeighbors/include' -I"C:/rtools44/x86_64-w64-mingw32.static.posix/include" -O2 -Wall -mfpmath=sse -msse2 -mstackrealign -DR_NO_REMAP -c run_umap.cpp -o run_umap.o In file included from E:/biocbuild/bbs-3.21-bioc/R/library/assorthead/include/Eigen/Core:341, from E:/biocbuild/bbs-3.21-bioc/R/library/assorthead/include/Eigen/Dense:1, from E:/biocbuild/bbs-3.21-bioc/R/library/assorthead/include/irlba/compute.hpp:4, from E:/biocbuild/bbs-3.21-bioc/R/library/assorthead/include/irlba/irlba.hpp:4, from E:/biocbuild/bbs-3.21-bioc/R/library/assorthead/include/umappp/spectral_init.hpp:4, from E:/biocbuild/bbs-3.21-bioc/R/library/assorthead/include/umappp/initialize.hpp:8, from E:/biocbuild/bbs-3.21-bioc/R/library/assorthead/include/umappp/umappp.hpp:11, from run_umap.cpp:4: E:/biocbuild/bbs-3.21-bioc/R/library/assorthead/include/Eigen/src/Core/products/TriangularMatrixVector.h: In function 'static void Eigen::internal::trmv_selector::run(const Lhs&, const Rhs&, Dest&, const typename Dest::Scalar&) [with Lhs = Eigen::Transpose, -1, -1, false>, -1, -1, false> >; Rhs = Eigen::Transpose, const Eigen::CwiseNullaryOp, const Eigen::Matrix >, const Eigen::Transpose, -1, -1, false>, -1, 1, true>, -1, 1, false> > > >; Dest = Eigen::Transpose, 1, -1, true>, 1, -1, false> >; int Mode = 6]': E:/biocbuild/bbs-3.21-bioc/R/library/assorthead/include/Eigen/src/Core/products/TriangularMatrixVector.h:332:12: warning: 'result' may be used uninitialized [-Wmaybe-uninitialized] 327 | internal::triangular_matrix_vector_product | ~~~~~~~~~~~~~~~~~~~~~~~~~~~~~~~~~~~~~~~~~~ 328 | | ~~~~~~~~~ 332 | ::run(actualLhs.rows(),actualLhs.cols(), | ~~~~~^~~~~~~~~~~~~~~~~~~~~~~~~~~~~~~~~~~ 333 | actualLhs.data(),actualLhs.outerStride(), | ~~~~~~~~~~~~~~~~~~~~~~~~~~~~~~~~~~~~~~~~~ 334 | actualRhsPtr,1, | ~~~~~~~~~~~~~~~ 335 | dest.data(),dest.innerStride(), | ~~~~~~~~~~~~~~~~~~~~~~~~~~~~~~~ 336 | actualAlpha); | ~~~~~~~~~~~~ E:/biocbuild/bbs-3.21-bioc/R/library/assorthead/include/Eigen/src/Core/products/TriangularMatrixVector.h:105:24: note: by argument 5 of type 'const double*' to 'static void Eigen::internal::triangular_matrix_vector_product::run(Index, Index, const LhsScalar*, Index, const RhsScalar*, Index, ResScalar*, Index, const ResScalar&) [with Index = long long int; int Mode = 6; LhsScalar = double; bool ConjLhs = false; RhsScalar = double; bool ConjRhs = false; int Version = 0]' declared here 105 | EIGEN_DONT_INLINE void triangular_matrix_vector_product | ^~~~~~~~~~~~~~~~~~~~~~~~~~~~~~~~~~~~~~~~~~~~~~~~~~~~~~~~~~~~~~~~~~~~~~~~~~~~~~~~~~~~~~~~~~~~~~~~~ g++ -std=gnu++17 -I"E:/biocbuild/bbs-3.21-bioc/R/include" -DNDEBUG -I'E:/biocbuild/bbs-3.21-bioc/R/library/Rcpp/include' -I'E:/biocbuild/bbs-3.21-bioc/R/library/assorthead/include' -I'E:/biocbuild/bbs-3.21-bioc/R/library/beachmat/include' -I'E:/biocbuild/bbs-3.21-bioc/R/library/BiocNeighbors/include' -I"C:/rtools44/x86_64-w64-mingw32.static.posix/include" -O2 -Wall -mfpmath=sse -msse2 -mstackrealign -DR_NO_REMAP -c sanitize_size_factors.cpp -o sanitize_size_factors.o g++ -std=gnu++17 -I"E:/biocbuild/bbs-3.21-bioc/R/include" -DNDEBUG -I'E:/biocbuild/bbs-3.21-bioc/R/library/Rcpp/include' -I'E:/biocbuild/bbs-3.21-bioc/R/library/assorthead/include' -I'E:/biocbuild/bbs-3.21-bioc/R/library/beachmat/include' -I'E:/biocbuild/bbs-3.21-bioc/R/library/BiocNeighbors/include' -I"C:/rtools44/x86_64-w64-mingw32.static.posix/include" -O2 -Wall -mfpmath=sse -msse2 -mstackrealign -DR_NO_REMAP -c scale_by_neighbors.cpp -o scale_by_neighbors.o g++ -std=gnu++17 -I"E:/biocbuild/bbs-3.21-bioc/R/include" -DNDEBUG -I'E:/biocbuild/bbs-3.21-bioc/R/library/Rcpp/include' -I'E:/biocbuild/bbs-3.21-bioc/R/library/assorthead/include' -I'E:/biocbuild/bbs-3.21-bioc/R/library/beachmat/include' -I'E:/biocbuild/bbs-3.21-bioc/R/library/BiocNeighbors/include' -I"C:/rtools44/x86_64-w64-mingw32.static.posix/include" -O2 -Wall -mfpmath=sse -msse2 -mstackrealign -DR_NO_REMAP -c score_gene_set.cpp -o score_gene_set.o g++ -std=gnu++17 -I"E:/biocbuild/bbs-3.21-bioc/R/include" -DNDEBUG -I'E:/biocbuild/bbs-3.21-bioc/R/library/Rcpp/include' -I'E:/biocbuild/bbs-3.21-bioc/R/library/assorthead/include' -I'E:/biocbuild/bbs-3.21-bioc/R/library/beachmat/include' -I'E:/biocbuild/bbs-3.21-bioc/R/library/BiocNeighbors/include' -I"C:/rtools44/x86_64-w64-mingw32.static.posix/include" -O2 -Wall -mfpmath=sse -msse2 -mstackrealign -DR_NO_REMAP -c score_markers.cpp -o score_markers.o g++ -std=gnu++17 -I"E:/biocbuild/bbs-3.21-bioc/R/include" -DNDEBUG -I'E:/biocbuild/bbs-3.21-bioc/R/library/Rcpp/include' -I'E:/biocbuild/bbs-3.21-bioc/R/library/assorthead/include' -I'E:/biocbuild/bbs-3.21-bioc/R/library/beachmat/include' -I'E:/biocbuild/bbs-3.21-bioc/R/library/BiocNeighbors/include' -I"C:/rtools44/x86_64-w64-mingw32.static.posix/include" -O2 -Wall -mfpmath=sse -msse2 -mstackrealign -DR_NO_REMAP -c subsample_by_neighbors.cpp -o subsample_by_neighbors.o g++ -std=gnu++17 -I"E:/biocbuild/bbs-3.21-bioc/R/include" -DNDEBUG -I'E:/biocbuild/bbs-3.21-bioc/R/library/Rcpp/include' -I'E:/biocbuild/bbs-3.21-bioc/R/library/assorthead/include' -I'E:/biocbuild/bbs-3.21-bioc/R/library/beachmat/include' -I'E:/biocbuild/bbs-3.21-bioc/R/library/BiocNeighbors/include' -I"C:/rtools44/x86_64-w64-mingw32.static.posix/include" -O2 -Wall -mfpmath=sse -msse2 -mstackrealign -DR_NO_REMAP -c summarize_effects.cpp -o summarize_effects.o g++ -std=gnu++17 -I"E:/biocbuild/bbs-3.21-bioc/R/include" -DNDEBUG -I'E:/biocbuild/bbs-3.21-bioc/R/library/Rcpp/include' -I'E:/biocbuild/bbs-3.21-bioc/R/library/assorthead/include' -I'E:/biocbuild/bbs-3.21-bioc/R/library/beachmat/include' -I'E:/biocbuild/bbs-3.21-bioc/R/library/BiocNeighbors/include' -I"C:/rtools44/x86_64-w64-mingw32.static.posix/include" -O2 -Wall -mfpmath=sse -msse2 -mstackrealign -DR_NO_REMAP -c test_enrichment.cpp -o test_enrichment.o g++ -std=gnu++17 -shared -s -static-libgcc -o scrapper.dll tmp.def RcppExports.o adt_quality_control.o aggregate_across_cells.o aggregate_across_genes.o build_snn_graph.o center_size_factors.o choose_highly_variable_genes.o choose_pseudo_count.o cluster_graph.o cluster_kmeans.o combine_factors.o compute_clrm1_factors.o correct_mnn.o crispr_quality_control.o fit_variance_trend.o model_gene_variances.o normalize_counts.o rna_quality_control.o run_pca.o run_tsne.o run_umap.o sanitize_size_factors.o scale_by_neighbors.o score_gene_set.o score_markers.o subsample_by_neighbors.o summarize_effects.o test_enrichment.o -LC:/rtools44/x86_64-w64-mingw32.static.posix/lib/x64 -LC:/rtools44/x86_64-w64-mingw32.static.posix/lib -LE:/biocbuild/bbs-3.21-bioc/R/bin/x64 -lR installing to E:/biocbuild/bbs-3.21-bioc/meat/scrapper.buildbin-libdir/00LOCK-scrapper/00new/scrapper/libs/x64 ** R ** inst ** byte-compile and prepare package for lazy loading ** help *** installing help indices ** building package indices ** installing vignettes ** testing if installed package can be loaded from temporary location ** testing if installed package can be loaded from final location ** testing if installed package keeps a record of temporary installation path * MD5 sums packaged installation of 'scrapper' as scrapper_1.1.12.zip * DONE (scrapper)