Package: scrapper Version: 1.1.12 Command: E:\biocbuild\bbs-3.21-bioc\R\bin\R.exe CMD check --no-multiarch --install=check:scrapper.install-out.txt --library=E:\biocbuild\bbs-3.21-bioc\R\library --no-vignettes --timings scrapper_1.1.12.tar.gz StartedAt: 2025-02-10 05:13:51 -0500 (Mon, 10 Feb 2025) EndedAt: 2025-02-10 05:19:42 -0500 (Mon, 10 Feb 2025) EllapsedTime: 350.5 seconds RetCode: 0 Status: OK CheckDir: scrapper.Rcheck Warnings: 0