Package: scrapper Version: 1.1.12 Command: E:\biocbuild\bbs-3.21-bioc\R\bin\R.exe CMD INSTALL scrapper StartedAt: 2025-02-03 16:09:59 -0500 (Mon, 03 Feb 2025) EndedAt: 2025-02-03 16:16:08 -0500 (Mon, 03 Feb 2025) EllapsedTime: 369.1 seconds RetCode: 0 Status: OK