Package: screenCounter Version: 1.7.1 Command: rm -rf screenCounter.buildbin-libdir && mkdir screenCounter.buildbin-libdir && /Users/biocbuild/BBS/utils/build-universal.sh screenCounter_1.7.1.tar.gz /Library/Frameworks/R.framework/Resources/bin/R screenCounter.buildbin-libdir StartedAt: 2025-02-09 22:30:11 -0500 (Sun, 09 Feb 2025) EndedAt: 2025-02-09 22:30:39 -0500 (Sun, 09 Feb 2025) EllapsedTime: 28.5 seconds RetCode: 0 Status: OK PackageFile: screenCounter_1.7.1.tgz PackageFileSize: 529 KiB