Package: screenCounter Version: 1.7.1 Command: /Library/Frameworks/R.framework/Resources/bin/R CMD INSTALL screenCounter StartedAt: 2025-02-12 15:09:29 -0500 (Wed, 12 Feb 2025) EndedAt: 2025-02-12 15:09:55 -0500 (Wed, 12 Feb 2025) EllapsedTime: 26.1 seconds RetCode: 0 Status: OK