Package: screenCounter Version: 1.7.1 Command: rm -rf screenCounter.buildbin-libdir && mkdir screenCounter.buildbin-libdir && /Users/biocbuild/BBS/utils/build-universal.sh screenCounter_1.7.1.tar.gz /Library/Frameworks/R.framework/Resources/bin/R screenCounter.buildbin-libdir StartedAt: 2025-02-10 01:15:28 -0500 (Mon, 10 Feb 2025) EndedAt: 2025-02-10 01:17:13 -0500 (Mon, 10 Feb 2025) EllapsedTime: 104.9 seconds RetCode: 0 Status: OK PackageFile: screenCounter_1.7.1.tgz PackageFileSize: 540.6 KiB