Package: screenCounter Version: 1.7.1 Command: /Library/Frameworks/R.framework/Resources/bin/R CMD check --install=check:screenCounter.install-out.txt --library=/Library/Frameworks/R.framework/Resources/library --no-vignettes --timings screenCounter_1.7.1.tar.gz StartedAt: 2025-02-09 23:29:26 -0500 (Sun, 09 Feb 2025) EndedAt: 2025-02-09 23:32:37 -0500 (Sun, 09 Feb 2025) EllapsedTime: 190.8 seconds RetCode: 0 Status: OK CheckDir: screenCounter.Rcheck Warnings: 0