Package: screenCounter Version: 1.7.1 Command: /home/biocbuild/bbs-3.21-bioc/R/bin/R CMD build --keep-empty-dirs --no-resave-data screenCounter StartedAt: 2025-02-09 19:10:48 -0500 (Sun, 09 Feb 2025) EndedAt: 2025-02-09 19:12:35 -0500 (Sun, 09 Feb 2025) EllapsedTime: 107.1 seconds RetCode: 0 Status: OK PackageFile: screenCounter_1.7.1.tar.gz PackageFileSize: 292.6 KiB