Package: screenCounter Version: 1.7.1 Command: /home/biocbuild/bbs-3.21-bioc/R/bin/R CMD check --install=check:screenCounter.install-out.txt --library=/home/biocbuild/bbs-3.21-bioc/R/site-library --timings screenCounter_1.7.1.tar.gz StartedAt: 2025-02-10 02:27:29 -0500 (Mon, 10 Feb 2025) EndedAt: 2025-02-10 02:30:29 -0500 (Mon, 10 Feb 2025) EllapsedTime: 180.2 seconds RetCode: 0 Status: OK CheckDir: screenCounter.Rcheck Warnings: 0