Package: screenCounter Version: 1.7.1 Command: /home/biocbuild/bbs-3.21-bioc/R/bin/R CMD INSTALL screenCounter StartedAt: 2025-02-12 15:18:28 -0500 (Wed, 12 Feb 2025) EndedAt: 2025-02-12 15:19:57 -0500 (Wed, 12 Feb 2025) EllapsedTime: 89.4 seconds RetCode: 0 Status: OK