Package: screenCounter Version: 1.7.1 Command: E:\biocbuild\bbs-3.21-bioc\R\bin\R.exe CMD check --no-multiarch --install=check:screenCounter.install-out.txt --library=E:\biocbuild\bbs-3.21-bioc\R\library --no-vignettes --timings screenCounter_1.7.1.tar.gz StartedAt: 2025-02-10 05:15:05 -0500 (Mon, 10 Feb 2025) EndedAt: 2025-02-10 05:18:28 -0500 (Mon, 10 Feb 2025) EllapsedTime: 203.0 seconds RetCode: 0 Status: OK CheckDir: screenCounter.Rcheck Warnings: 0