Package: scruff Version: 1.25.0 Command: rm -rf scruff.buildbin-libdir && mkdir scruff.buildbin-libdir && /Users/biocbuild/BBS/utils/build-universal.sh scruff_1.25.0.tar.gz /Library/Frameworks/R.framework/Resources/bin/R scruff.buildbin-libdir StartedAt: 2025-02-09 22:30:15 -0500 (Sun, 09 Feb 2025) EndedAt: 2025-02-09 22:30:42 -0500 (Sun, 09 Feb 2025) EllapsedTime: 27.5 seconds RetCode: 0 Status: OK PackageFile: scruff_1.25.0.tgz PackageFileSize: 3.597 MiB