Package: scruff Version: 1.25.0 Command: /Library/Frameworks/R.framework/Resources/bin/R CMD build --keep-empty-dirs --no-resave-data scruff StartedAt: 2025-02-09 17:34:08 -0500 (Sun, 09 Feb 2025) EndedAt: 2025-02-09 17:35:00 -0500 (Sun, 09 Feb 2025) EllapsedTime: 52.6 seconds RetCode: 0 Status: OK PackageFile: scruff_1.25.0.tar.gz PackageFileSize: 1.713 MiB