Package: scruff Version: 1.25.0 Command: /Library/Frameworks/R.framework/Resources/bin/R CMD INSTALL scruff StartedAt: 2025-02-09 15:17:20 -0500 (Sun, 09 Feb 2025) EndedAt: 2025-02-09 15:17:44 -0500 (Sun, 09 Feb 2025) EllapsedTime: 24.7 seconds RetCode: 0 Status: OK