Package: scruff Version: 1.25.0 Command: /home/biocbuild/bbs-3.21-bioc/R/bin/R CMD check --install=check:scruff.install-out.txt --library=/home/biocbuild/bbs-3.21-bioc/R/site-library --timings scruff_1.25.0.tar.gz StartedAt: 2025-02-10 02:28:07 -0500 (Mon, 10 Feb 2025) EndedAt: 2025-02-10 02:35:57 -0500 (Mon, 10 Feb 2025) EllapsedTime: 470.6 seconds RetCode: 0 Status: OK CheckDir: scruff.Rcheck Warnings: 0