Package: scruff Version: 1.25.0 Command: chmod a+r scruff -R && E:\biocbuild\bbs-3.21-bioc\R\bin\R.exe CMD build --keep-empty-dirs --no-resave-data scruff StartedAt: 2025-02-04 21:34:12 -0500 (Tue, 04 Feb 2025) EndedAt: 2025-02-04 21:37:16 -0500 (Tue, 04 Feb 2025) EllapsedTime: 184.7 seconds RetCode: 0 Status: OK PackageFile: scruff_1.25.0.tar.gz PackageFileSize: 1.082 MiB