Package: scruff Version: 1.25.0 Command: E:\biocbuild\bbs-3.21-bioc\R\bin\R.exe CMD check --no-multiarch --install=check:scruff.install-out.txt --library=E:\biocbuild\bbs-3.21-bioc\R\library --no-vignettes --timings scruff_1.25.0.tar.gz StartedAt: 2025-02-05 05:40:23 -0500 (Wed, 05 Feb 2025) EndedAt: 2025-02-05 05:48:31 -0500 (Wed, 05 Feb 2025) EllapsedTime: 488.3 seconds RetCode: 0 Status: OK CheckDir: scruff.Rcheck Warnings: 0