Package: scviR Version: 1.7.0 Command: /Library/Frameworks/R.framework/Resources/bin/R CMD build --keep-empty-dirs --no-resave-data scviR StartedAt: 2025-02-12 18:16:55 -0500 (Wed, 12 Feb 2025) EndedAt: 2025-02-12 18:22:52 -0500 (Wed, 12 Feb 2025) EllapsedTime: 357.6 seconds RetCode: 1 Status: ERROR PackageFile: None PackageFileSize: NA