Package: scviR Version: 1.7.0 Command: /Library/Frameworks/R.framework/Resources/bin/R CMD INSTALL scviR StartedAt: 2025-02-09 15:40:40 -0500 (Sun, 09 Feb 2025) EndedAt: 2025-02-09 15:41:23 -0500 (Sun, 09 Feb 2025) EllapsedTime: 43.2 seconds RetCode: 0 Status: OK