Package: scviR Version: 1.7.0 Command: /home/biocbuild/bbs-3.21-bioc/R/bin/R CMD build --keep-empty-dirs --no-resave-data scviR StartedAt: 2025-02-09 19:13:28 -0500 (Sun, 09 Feb 2025) EndedAt: 2025-02-09 19:15:25 -0500 (Sun, 09 Feb 2025) EllapsedTime: 117.2 seconds RetCode: 0 Status: OK PackageFile: scviR_1.7.0.tar.gz PackageFileSize: 3.633 MiB