Package: scviR Version: 1.7.0 Command: /home/biocbuild/bbs-3.21-bioc/R/bin/R CMD INSTALL scviR StartedAt: 2025-02-09 15:52:29 -0500 (Sun, 09 Feb 2025) EndedAt: 2025-02-09 15:53:01 -0500 (Sun, 09 Feb 2025) EllapsedTime: 31.7 seconds RetCode: 0 Status: OK