Package: sechm Version: 1.15.0 Command: /home/biocbuild/R/R/bin/R CMD build --keep-empty-dirs --no-resave-data sechm StartedAt: 2025-01-29 02:15:51 -0000 (Wed, 29 Jan 2025) EndedAt: 2025-01-29 02:16:01 -0000 (Wed, 29 Jan 2025) EllapsedTime: 10.0 seconds RetCode: 1 Status: ERROR PackageFile: None PackageFileSize: NA