Package: sechm Version: 1.15.0 Command: /home/biocbuild/R/R/bin/R CMD check --install=check:sechm.install-out.txt --library=/home/biocbuild/R/R/site-library --no-vignettes --timings sechm_1.15.0.tar.gz StartedAt: 2024-12-09 09:52:04 -0000 (Mon, 09 Dec 2024) EndedAt: 2024-12-09 09:55:43 -0000 (Mon, 09 Dec 2024) EllapsedTime: 219.4 seconds RetCode: 0 Status: OK CheckDir: sechm.Rcheck Warnings: 0