Package: sechm Version: 1.15.0 Command: /home/biocbuild/R/R/bin/R CMD INSTALL sechm StartedAt: 2025-01-29 20:27:09 -0000 (Wed, 29 Jan 2025) EndedAt: 2025-01-29 20:27:20 -0000 (Wed, 29 Jan 2025) EllapsedTime: 10.2 seconds RetCode: 1 Status: ERROR