Package: sechm Version: 1.15.0 Command: /Library/Frameworks/R.framework/Resources/bin/R CMD build --keep-empty-dirs --no-resave-data sechm StartedAt: 2025-02-04 18:16:37 -0500 (Tue, 04 Feb 2025) EndedAt: 2025-02-04 18:17:50 -0500 (Tue, 04 Feb 2025) EllapsedTime: 73.1 seconds RetCode: 0 Status: OK PackageFile: sechm_1.15.0.tar.gz PackageFileSize: 1.051 MiB