Package: sechm Version: 1.15.0 Command: /Library/Frameworks/R.framework/Resources/bin/R CMD check --install=check:sechm.install-out.txt --library=/Library/Frameworks/R.framework/Resources/library --no-vignettes --timings sechm_1.15.0.tar.gz StartedAt: 2025-02-04 23:12:15 -0500 (Tue, 04 Feb 2025) EndedAt: 2025-02-04 23:15:32 -0500 (Tue, 04 Feb 2025) EllapsedTime: 196.5 seconds RetCode: 0 Status: OK CheckDir: sechm.Rcheck Warnings: 0