Package: sechm Version: 1.15.0 Command: /Library/Frameworks/R.framework/Resources/bin/R CMD INSTALL sechm StartedAt: 2025-02-04 15:37:50 -0500 (Tue, 04 Feb 2025) EndedAt: 2025-02-04 15:38:24 -0500 (Tue, 04 Feb 2025) EllapsedTime: 33.7 seconds RetCode: 0 Status: OK