Package: sechm Version: 1.15.0 Command: rm -rf sechm.buildbin-libdir && mkdir sechm.buildbin-libdir && E:\biocbuild\bbs-3.21-bioc\R\bin\R.exe CMD INSTALL --build --library=sechm.buildbin-libdir sechm_1.15.0.tar.gz StartedAt: 2025-02-04 08:54:05 -0500 (Tue, 04 Feb 2025) EndedAt: 2025-02-04 08:54:34 -0500 (Tue, 04 Feb 2025) EllapsedTime: 29.2 seconds RetCode: 0 Status: OK PackageFile: sechm_1.15.0.zip PackageFileSize: 647 KiB