Package: sechm Version: 1.15.0 Command: chmod a+r sechm -R && E:\biocbuild\bbs-3.21-bioc\R\bin\R.exe CMD build --keep-empty-dirs --no-resave-data sechm StartedAt: 2025-02-03 21:48:20 -0500 (Mon, 03 Feb 2025) EndedAt: 2025-02-03 21:49:53 -0500 (Mon, 03 Feb 2025) EllapsedTime: 93.3 seconds RetCode: 0 Status: OK PackageFile: sechm_1.15.0.tar.gz PackageFileSize: 568.6 KiB