Package: sechm Version: 1.15.0 Command: E:\biocbuild\bbs-3.21-bioc\R\bin\R.exe CMD check --no-multiarch --install=check:sechm.install-out.txt --library=E:\biocbuild\bbs-3.21-bioc\R\library --no-vignettes --timings sechm_1.15.0.tar.gz StartedAt: 2025-02-10 05:18:29 -0500 (Mon, 10 Feb 2025) EndedAt: 2025-02-10 05:21:50 -0500 (Mon, 10 Feb 2025) EllapsedTime: 200.9 seconds RetCode: 0 Status: OK CheckDir: sechm.Rcheck Warnings: 0