Package: sechm Version: 1.15.0 Command: E:\biocbuild\bbs-3.21-bioc\R\bin\R.exe CMD INSTALL sechm StartedAt: 2025-02-09 16:15:13 -0500 (Sun, 09 Feb 2025) EndedAt: 2025-02-09 16:15:46 -0500 (Sun, 09 Feb 2025) EllapsedTime: 32.3 seconds RetCode: 0 Status: OK