Package: segmentSeq Version: 2.41.1 Command: /Library/Frameworks/R.framework/Resources/bin/R CMD build --keep-empty-dirs --no-resave-data segmentSeq StartedAt: 2025-02-03 18:11:39 -0500 (Mon, 03 Feb 2025) EndedAt: 2025-02-03 18:12:42 -0500 (Mon, 03 Feb 2025) EllapsedTime: 62.8 seconds RetCode: 0 Status: OK PackageFile: segmentSeq_2.41.1.tar.gz PackageFileSize: 3.075 MiB