Package: segmentSeq Version: 2.41.1 Command: /Library/Frameworks/R.framework/Resources/bin/R CMD INSTALL segmentSeq StartedAt: 2025-02-03 15:48:16 -0500 (Mon, 03 Feb 2025) EndedAt: 2025-02-03 15:48:31 -0500 (Mon, 03 Feb 2025) EllapsedTime: 14.7 seconds RetCode: 0 Status: OK