Package: segmentSeq Version: 2.41.1 Command: /home/biocbuild/R/R/bin/R CMD build --keep-empty-dirs --no-resave-data segmentSeq StartedAt: 2025-01-29 02:16:07 -0000 (Wed, 29 Jan 2025) EndedAt: 2025-01-29 02:20:04 -0000 (Wed, 29 Jan 2025) EllapsedTime: 237.2 seconds RetCode: 0 Status: OK PackageFile: segmentSeq_2.41.1.tar.gz PackageFileSize: 2.918 MiB