Package: segmentSeq Version: 2.41.1 Command: /home/biocbuild/R/R/bin/R CMD INSTALL segmentSeq StartedAt: 2025-01-29 20:01:08 -0000 (Wed, 29 Jan 2025) EndedAt: 2025-01-29 20:02:00 -0000 (Wed, 29 Jan 2025) EllapsedTime: 52.4 seconds RetCode: 0 Status: OK