Package: segmentSeq Version: 2.41.1 Command: /Library/Frameworks/R.framework/Resources/bin/R CMD check --install=check:segmentSeq.install-out.txt --library=/Library/Frameworks/R.framework/Resources/library --no-vignettes --timings segmentSeq_2.41.1.tar.gz StartedAt: 2025-02-03 23:15:04 -0500 (Mon, 03 Feb 2025) EndedAt: 2025-02-03 23:21:56 -0500 (Mon, 03 Feb 2025) EllapsedTime: 411.6 seconds RetCode: 0 Status: OK CheckDir: segmentSeq.Rcheck Warnings: 0