Package: segmentSeq Version: 2.41.1 Command: /home/biocbuild/bbs-3.21-bioc/R/bin/R CMD build --keep-empty-dirs --no-resave-data segmentSeq StartedAt: 2025-02-03 19:22:10 -0500 (Mon, 03 Feb 2025) EndedAt: 2025-02-03 19:24:42 -0500 (Mon, 03 Feb 2025) EllapsedTime: 152.2 seconds RetCode: 0 Status: OK PackageFile: segmentSeq_2.41.1.tar.gz PackageFileSize: 3.044 MiB