Package: segmentSeq Version: 2.41.1 Command: /home/biocbuild/bbs-3.21-bioc/R/bin/R CMD check --install=check:segmentSeq.install-out.txt --library=/home/biocbuild/bbs-3.21-bioc/R/site-library --timings segmentSeq_2.41.1.tar.gz StartedAt: 2025-02-04 02:38:18 -0500 (Tue, 04 Feb 2025) EndedAt: 2025-02-04 02:46:23 -0500 (Tue, 04 Feb 2025) EllapsedTime: 485.0 seconds RetCode: 0 Status: OK CheckDir: segmentSeq.Rcheck Warnings: 0