Package: segmentSeq Version: 2.41.1 Command: /home/biocbuild/bbs-3.21-bioc/R/bin/R CMD INSTALL segmentSeq StartedAt: 2025-02-09 15:50:33 -0500 (Sun, 09 Feb 2025) EndedAt: 2025-02-09 15:51:11 -0500 (Sun, 09 Feb 2025) EllapsedTime: 38.3 seconds RetCode: 0 Status: OK