Package: segmentSeq Version: 2.41.1 Command: E:\biocbuild\bbs-3.21-bioc\R\bin\R.exe CMD check --no-multiarch --install=check:segmentSeq.install-out.txt --library=E:\biocbuild\bbs-3.21-bioc\R\library --no-vignettes --timings segmentSeq_2.41.1.tar.gz StartedAt: 2025-02-04 05:45:08 -0500 (Tue, 04 Feb 2025) EndedAt: 2025-02-04 05:51:41 -0500 (Tue, 04 Feb 2025) EllapsedTime: 392.8 seconds RetCode: 0 Status: OK CheckDir: segmentSeq.Rcheck Warnings: 0