Package: selectKSigs Version: 1.19.0 Command: rm -rf selectKSigs.buildbin-libdir && mkdir selectKSigs.buildbin-libdir && /Users/biocbuild/BBS/utils/build-universal.sh selectKSigs_1.19.0.tar.gz /Library/Frameworks/R.framework/Resources/bin/R selectKSigs.buildbin-libdir StartedAt: 2025-02-10 01:15:54 -0500 (Mon, 10 Feb 2025) EndedAt: 2025-02-10 01:16:13 -0500 (Mon, 10 Feb 2025) EllapsedTime: 19.6 seconds RetCode: 0 Status: OK PackageFile: selectKSigs_1.19.0.tgz PackageFileSize: 482.7 KiB