Package: selectKSigs Version: 1.19.0 Command: /Library/Frameworks/R.framework/Resources/bin/R CMD build --keep-empty-dirs --no-resave-data selectKSigs StartedAt: 2025-02-09 18:25:30 -0500 (Sun, 09 Feb 2025) EndedAt: 2025-02-09 18:27:25 -0500 (Sun, 09 Feb 2025) EllapsedTime: 115.3 seconds RetCode: 0 Status: OK PackageFile: selectKSigs_1.19.0.tar.gz PackageFileSize: 399.6 KiB