Package: selectKSigs Version: 1.19.0 Command: /Library/Frameworks/R.framework/Resources/bin/R CMD INSTALL selectKSigs StartedAt: 2025-02-04 15:22:50 -0500 (Tue, 04 Feb 2025) EndedAt: 2025-02-04 15:23:10 -0500 (Tue, 04 Feb 2025) EllapsedTime: 20.2 seconds RetCode: 0 Status: OK