Package: selectKSigs Version: 1.19.0 Command: /home/biocbuild/bbs-3.21-bioc/R/bin/R CMD check --install=check:selectKSigs.install-out.txt --library=/home/biocbuild/bbs-3.21-bioc/R/site-library --timings selectKSigs_1.19.0.tar.gz StartedAt: 2025-02-05 02:39:37 -0500 (Wed, 05 Feb 2025) EndedAt: 2025-02-05 02:42:37 -0500 (Wed, 05 Feb 2025) EllapsedTime: 179.2 seconds RetCode: 0 Status: OK CheckDir: selectKSigs.Rcheck Warnings: 0