Package: selectKSigs Version: 1.19.0 Command: /home/biocbuild/bbs-3.21-bioc/R/bin/R CMD INSTALL selectKSigs StartedAt: 2025-02-04 15:57:38 -0500 (Tue, 04 Feb 2025) EndedAt: 2025-02-04 15:57:51 -0500 (Tue, 04 Feb 2025) EllapsedTime: 13.3 seconds RetCode: 0 Status: OK